BEGIN:VCALENDAR
VERSION:2.0
PRODID:-//wp-events-plugin.com//7.2.3.1//EN
TZID:Australia/Sydney
X-WR-TIMEZONE:Australia/Sydney
BEGIN:VEVENT
UID:35@newcastleracecourse.com.au
DTSTART;TZID=Australia/Sydney:20200901T110000
DTEND;TZID=Australia/Sydney:20200901T173000
DTSTAMP:20260421T084950Z
URL:
SUMMARY:Racing at Newcastle
DESCRIPTION:[vc_row][vc_column][vc_column_text]\nCome and enjoy a day of mi
 d-week racing!\nGates Open- 12.30\nFirst Race - 1.25pm -  Last Race - 5.1
 0pm\nThe Members Lounge will be open for bar service and the\nNewmarket Ca
 fe will be open for food throughout the afternoon.\nPre-register your atte
 ndance online or at the turnstile entry on arrival.\nIn line with the NSW 
 Government Public Health orders\,\nyour return race day will look a little
  different. \nSocial distancing and bio-security measures are in place th
 roughout\nthe day including temperature checks for racegoers on arrival.\n
 PRE-REGISTER YOUR ATTENDANCE HERE\n\n\n[/vc_column_text][vc_separator][vc_
 column_text]\nIMPORTANT INFORMATION\nAny person that has attended any of t
 he NSW venues listed HERE on the dates specified\nmust not attend a NSW ra
 cecourse or licensed premises and must in accordance with the\nNSW Governm
 ent Health Department requirements self-isolate for 14 days after attendin
 g the\nvenue AND undertake a COVID-19 test.\nAny person that has travelled
  to or from Victoria after 24 June 2020 is not permitted to \npurchase tic
 kets to or attend this event under current NSW Government advice \nregardi
 ng COVID-19 until they have completed a period of self-isolation for 14 da
 ys.\nThese measures are in place to protect patrons and staff\, and your c
 ooperation will help \nensure that we can continue to welcome racegoers ba
 ck throughout the winter.\nCLICK HERE to view changes to Conditions of Ti
 cketing and Entry.\n[/vc_column_text][/vc_column][/vc_row][vc_row el_id="R
 egistration"][vc_column][vc_empty_space][/vc_column][/vc_row]
LOCATION:#_LOCATIONNAME\, #_LOCATIONFULLLINE\, #_LOCATIONCOUNTRY
X-APPLE-STRUCTURED-LOCATION;VALUE=URI;X-ADDRESS=#_LOCATIONFULLLINE\, #_LOCA
 TIONCOUNTRY;X-APPLE-RADIUS=100;X-TITLE=#_LOCATIONNAME:geo:0,0
END:VEVENT
BEGIN:VTIMEZONE
TZID:Australia/Sydney
X-LIC-LOCATION:Australia/Sydney
BEGIN:STANDARD
DTSTART:20200405T020000
TZOFFSETFROM:+1100
TZOFFSETTO:+1000
TZNAME:AEST
END:STANDARD
END:VTIMEZONE
END:VCALENDAR