BEGIN:VCALENDAR
VERSION:2.0
PRODID:-//wp-events-plugin.com//7.2.3.1//EN
TZID:Australia/Sydney
X-WR-TIMEZONE:Australia/Sydney
BEGIN:VEVENT
UID:72@newcastleracecourse.com.au
DTSTART;TZID=Australia/Sydney:20210305T120000
DTEND;TZID=Australia/Sydney:20210305T183000
DTSTAMP:20260424T143944Z
URL:
SUMMARY:SUEZ Newcastle Newmarket Race Day
DESCRIPTION:[vc_row][vc_column][vc_custom_heading text="SUEZ Newcastle Newm
 arket Race Day" font_container="tag:h1|text_align:center"][vc_column_text]
 \n\n\nNewcastle Racecourse will host the historic 2021 Newmarket Group 3\n
 with $160\,000 offered in prize money. There will be another seven\nraces 
 programmed for Friday as horses are deep in preparation for\nthe 2021 Sydn
 ey Autumn Racing Carnival\n\nTickets go on sale 10am\, Thursday 28 Februar
 y 2021\n\n[/vc_column_text][vc_empty_space][/vc_column][/vc_row][vc_row][v
 c_column width="1/4"][eventchamp_button style="4" align="left" buttonlink=
 "title:Gates%3A%2012%3A00pm" icon=""][/vc_column][vc_column width="1/4"][e
 ventchamp_button style="4" align="left" buttonlink="title:First%20Race%20-
 %201%3A25pm" icon=""][/vc_column][vc_column width="1/4"][eventchamp_button
  style="4" align="left" buttonlink="title:SUEZ%20Newmarket%20-%205%3A10pm"
  icon=""][/vc_column][vc_column width="1/4"][eventchamp_button style="4" a
 lign="left" buttonlink="title:Last%20Race%20-%205%3A50pm" icon=""][/vc_col
 umn][/vc_row][vc_row][vc_column][vc_empty_space][vc_separator][vc_empty_sp
 ace][/vc_column][/vc_row][vc_row][vc_column width="1/5"][eventchamp_button
  style="4" align="left" buttonlink="url:https%3A%2F%2Fwww.newcastleracecou
 rse.com.au%2Fevents%2Fnewmarket-iwd%2F%23iwd|title:International%20Women's
 %20Day" icon=""][/vc_column][vc_column width="1/5"][eventchamp_button styl
 e="4" align="left" buttonlink="url:https%3A%2F%2Fwww.newcastleracecourse.c
 om.au%2Fevents%2Fnewmarket-iwd%2F%23packages|title:Packages" icon=""][/vc_
 column][vc_column width="1/5"][eventchamp_button style="4" align="left" bu
 ttonlink="url:https%3A%2F%2Fwww.newcastleracecourse.com.au%2Fevents%2Fnewm
 arket-iwd%2F%23book-now|title:Book%20Now" icon=""][/vc_column][vc_column w
 idth="1/5"][eventchamp_button style="4" align="left" buttonlink="url:https
 %3A%2F%2Fwww.newcastleracecourse.com.au%2Fevents%2Fnewmarket-iwd%2F%23hamp
 ers|title:Hampers" icon=""][/vc_column][vc_column width="1/5"][eventchamp_
 button style="4" align="left" buttonlink="url:https%3A%2F%2Fwww.newcastler
 acecourse.com.au%2Fevents%2Fnewmarket-iwd%2F%23graze|title:Grazing%20Boxes
 " icon=""][/vc_column][/vc_row][vc_row el_id="iwd"][vc_column][vc_empty_sp
 ace][vc_separator][vc_custom_heading text="We will also be celebrating\nIn
 ternational Women's Day in the Trackside Marquee." font_container="tag:h1|
 text_align:center"][vc_empty_space][vc_column_text]\nEnjoy a chef-inspired
  3-course meal trackside accompanied by premium\nbeverages including Moet 
 and Chandon Imperial while we come together\nto support our charity partn
 er\, Got Your Back Sista.\n[/vc_column_text][eventchamp_feature_box style=
 "style-1" alignment="left" opacity-effect="false" line="false" link-status
 ="false" image="" image-background-color="" icon="" title="International W
 omen's Day Trackside Marquee Package" subtitle="SOLD OUT" number="" link="
 "]Price: $199 per person\n\nIncludes:\n\n 	racecourse entry\n 	3 course pl
 ated lunch\n 	all-inclusive beverages including Moet &amp\; Chandon and pr
 emium cocktails\n 	entertainment\n 	1 race book per guest\n\n[/eventchamp_
 feature_box][eventchamp_button style="1" align="left" buttonlink="url:http
 s%3A%2F%2Fwww.newcastleracecourse.com.au%2Fevents%2Fnewmarket-iwd%2F%23iwd
 -waitlist|title:Join%20the%20waitlist" icon=""][vc_empty_space][/vc_column
 ][/vc_row][vc_row el_id="packages"][vc_column][vc_separator][vc_custom_hea
 ding text="Packages" font_container="tag:h1|text_align:center"][vc_empty_s
 pace][vc_empty_space][/vc_column][/vc_row][vc_row][vc_column width="1/2"][
 eventchamp_feature_box style="style-1" alignment="left" opacity-effect="fa
 lse" line="false" link-status="false" image="6208" image-background-color=
 "" icon="" title="Pavilion Room" subtitle="" number="" link=""]Price: $149
  per person\n\nThe Pavilion Room offers an exclusive race day experience. 
 Watch the horses parading before the race and catch the race’s finish fr
 om the Pavilion Room’s private courtyard lawn with unrivalled views of t
 he live racing action.\n\n 	Entry into the racecourse and marquee event\n 
 	Reserved seating for you and your guest in the Pavilion Room\n 	3 course 
 plated lunch\n 	5-hour beverage package\n 	1x race book per guests\n 	Ente
 rtainment\n 	TAB facilities\n\nBOOK NOW\n[/eventchamp_feature_box][vc_empt
 y_space][/vc_column][vc_column width="1/2"][eventchamp_feature_box style="
 style-1" alignment="left" opacity-effect="false" line="false" link-status=
 "false" image="5405" image-background-color="" icon="" title="Chevals Rest
 aurant" subtitle="" number="" link=""]Price: Members $129 per person - Non
  Members $139 per person\n\nWith sweeping views across the racecourse\, pr
 emium bar selections and TAB tote facilities\, Chevals Restaurant is the i
 deal venue to enjoy an exceptional race day experience. Delight your discr
 iminating palate with local produce crafted into a sophisticated buffet.\n
 \n 	Entry into the racecourse and members enclosure\n 	Seating in the rest
 aurant for the entire day\n 	Premium buffet lunch served for you\n 	1x rac
 e book per person\n 	TAB and book maker facilities\n\nBOOK NOW\n[/eventcha
 mp_feature_box][vc_empty_space][/vc_column][/vc_row][vc_row][vc_column wid
 th="1/2"][eventchamp_feature_box style="style-1" alignment="left" opacity-
 effect="false" line="false" link-status="false" image="4967" image-backgro
 und-color="" icon="" title="Mark Murphy Lounge" subtitle="" number="" link
 =""]Price: $30 per person\n\nMark Murphy Lounge\, located on the upper lev
 el above the Ascot Bar provides spectacular views of the entire racetrack\
 , big screen and surrounding areas. This Lounge has its own private bar\, 
 bookmakers and tote facilities.\n\n 	Entry into the racecourse\n 	Reserved
  seating in an air-conditioned venue with views of the track\n 	TAB facili
 ties\n\nBOOK NOW\n[/eventchamp_feature_box][vc_empty_space][/vc_column][vc
 _column width="1/2"][eventchamp_feature_box style="style-1" alignment="lef
 t" opacity-effect="false" line="false" link-status="false" image="4963" im
 age-background-color="" icon="" title="Members Lounge" subtitle="" number=
 "" link=""]Price: $20pp - This booking fee will be ‘given back’ to the
  member by way of loyalty points and can be used on the day.\n\nThe Member
 s Lounge offers Members and their guest perfect views over the Parade Ring
  and Across to the Winning Post and big screen. This lounge area includes\
 , bars\, a bistro\, bookmakers and tote facilities.\n\n*You must be a curr
 ent financial Member to book one (1) ticket into the Members Lounge on thi
 s day.\nOnly Members that hold a guest card can purchase two (2) tickets t
 o this venue.\nBOOK NOW\n[/eventchamp_feature_box][vc_empty_space][/vc_col
 umn][/vc_row][vc_row][vc_column width="1/2"][eventchamp_feature_box style=
 "style-1" alignment="left" opacity-effect="false" line="false" link-status
 ="false" image="5733" image-background-color="" icon="" title="General Ent
 ry – Ascot Bar Lawn" subtitle="General Admission" number="" link=""]Pric
 e: $15 per person\n\nThe Ascot Bar is the ideal place to catch up with fri
 ends to enjoy the races. Reserve your seat on the manicured lawn right nex
 t to the action. All bookings will be pre-allocated seating for the day wi
 th views of the racecourse.\n\n 	Entry into the racecourse\n 	Pre-allocate
 d seating on the Ascot Bar Lawn\n\nPlease note: When booking on a lawn are
 a for the race day you will be exposed to the elements\nBOOK NOW\n[/eventc
 hamp_feature_box][vc_empty_space][/vc_column][vc_column width="1/2"][event
 champ_feature_box style="style-1" alignment="left" opacity-effect="false" 
 line="false" link-status="false" image="5898" image-background-color="" ic
 on="" title="General Entry – Betting Ring" subtitle="General Admission" 
 number="" link=""]Price: $15 per person\n\nBook your reserved seat in the 
 heart of the action with bookmaker and bar facilities in the Betting Ring.
  With only a short walk to the live action trackside enjoy the atmosphere 
 of both areas.\n\n 	Entry into the racecourse\n 	Pre-allocated seating in 
 the Betting Ring\n\nBOOK NOW\n[/eventchamp_feature_box][vc_empty_space][/v
 c_column][/vc_row][vc_row el_id="hampers"][vc_column][vc_separator][vc_cus
 tom_heading text="Hampers" font_container="tag:h1|text_align:center"][vc_c
 olumn_text]\nAvailable with bookings in the Members Lounge\, Betting Ring 
 and the Ascot Bar Lawn.\nHampers are to be pre-order online by 12:00pm the
  Wednesday prior to the race day.\n[/vc_column_text][vc_empty_space][/vc_c
 olumn][/vc_row][vc_row][vc_column width="1/2"][eventchamp_feature_box styl
 e="style-1" alignment="left" opacity-effect="false" line="false" link-stat
 us="false" image="5536" image-background-color="" icon="" title="Ascot Ham
 per" subtitle="" number="" link=""]$65 per hamper – Suitable for 2 peopl
 e\n\nInclusions:\n\n 	Gourment Ribbon sandwiches\n 	Selection of cheese wi
 th quince paste and lavosh crackers\n 	Danish pastries\n 	Macaroons\n\n[/e
 ventchamp_feature_box][/vc_column][vc_column width="1/2"][eventchamp_featu
 re_box style="style-1" alignment="left" opacity-effect="false" line="false
 " link-status="false" image="5535" image-background-color="" icon="" title
 ="Beaumont Hamper" subtitle="" number="" link=""]$90 per hamper – Suitab
 le for 2 people\n\nInclusions:\n\n 	Moroccan BBQ chicken\n 	Greek salad\n 
 	Baby spinach and cous cous salad\n 	Selection of cheese with quince paste
  and lavosh crackers\n 	Danish pastries\n 	Macaroons\n 	Strawberries and f
 resh cream\n\n[/eventchamp_feature_box][/vc_column][/vc_row][vc_row el_id=
 "graze"][vc_column][vc_separator][vc_custom_heading text="Grazing Boxes" f
 ont_container="tag:h1|text_align:center"][vc_column_text]\nGrazing Boxes a
 re to be pre-order online by 12:00pm the Thursday prior to the race day.\n
 Newcastle Racecourse staff will deliver the platter directly to your seat 
 on the race day.\n[/vc_column_text][/vc_column][/vc_row][vc_row][vc_column
  width="1/2"][eventchamp_feature_box style="style-1" alignment="left" opac
 ity-effect="false" line="false" link-status="false" image="6158" image-bac
 kground-color="" icon="" title="Just Cheese Please" subtitle="" number="" 
 link=""]Price: $79\n\nOur Signature Cheese Platter for those with a love o
 f cheese\, a perfect accompaniment for 8-10 people.\n\nIncludes:\n\n 	Chee
 se\n 	Dried Fruit\n 	Crackers\n 	Olives\n 	Grapes\n\n[/eventchamp_feature_
 box][vc_empty_space][/vc_column][vc_column width="1/2"][eventchamp_feature
 _box style="style-1" alignment="left" opacity-effect="false" line="false" 
 link-status="false" image="6157" image-background-color="" icon="" title="
 50 Shades of Graze" subtitle="" number="" link=""]Price: $99\n\nA selectio
 n of locally sourced fresh produce\, a perfect accompaniment for 8-10 peop
 le\n\nIncludes:\n\n 	Cheese\n 	Charcuterie\n 	Crackers\n 	Dips\n\n[/eventc
 hamp_feature_box][/vc_column][/vc_row][vc_row][vc_column width="1/2"][even
 tchamp_feature_box style="style-1" alignment="left" opacity-effect="false"
  line="false" link-status="false" image="6159" image-background-color="" i
 con="" title="25 Shades of Graze" subtitle="" number="" link=""]Price: $49
 \n\nA small selection of locally sourced fresh produce\, a perfect accompa
 niment for 2-4 people.\n\nIncludes:\n\n 	Cheese\n 	Charcuterie\n 	Crackers
 \n 	Dips\n\n[/eventchamp_feature_box][/vc_column][vc_column width="1/2"][/
 vc_column][/vc_row][vc_row el_id="iwd-waitlist"][vc_column][vc_empty_space
 ][vc_custom_heading text="Join the International Women's Day Waitlist" fon
 t_container="tag:h1|text_align:center"][vc_column_text][forminator_form id
 ="6254"][/vc_column_text][/vc_column][/vc_row][vc_row el_id="book-now"][vc
 _column][vc_empty_space][/vc_column][/vc_row]
LOCATION:#_LOCATIONNAME\, #_LOCATIONFULLLINE\, #_LOCATIONCOUNTRY
X-APPLE-STRUCTURED-LOCATION;VALUE=URI;X-ADDRESS=#_LOCATIONFULLLINE\, #_LOCA
 TIONCOUNTRY;X-APPLE-RADIUS=100;X-TITLE=#_LOCATIONNAME:geo:0,0
END:VEVENT
BEGIN:VTIMEZONE
TZID:Australia/Sydney
X-LIC-LOCATION:Australia/Sydney
BEGIN:DAYLIGHT
DTSTART:20201004T030000
TZOFFSETFROM:+1000
TZOFFSETTO:+1100
TZNAME:AEDT
END:DAYLIGHT
END:VTIMEZONE
END:VCALENDAR