BEGIN:VCALENDAR
VERSION:2.0
PRODID:-//wp-events-plugin.com//7.2.3.1//EN
TZID:Australia/Sydney
X-WR-TIMEZONE:Australia/Sydney
BEGIN:VEVENT
UID:71@newcastleracecourse.com.au
DTSTART;TZID=Australia/Sydney:20210227T120000
DTEND;TZID=Australia/Sydney:20210227T183000
DTSTAMP:20260424T141135Z
URL:
SUMMARY:Master Builders Race Day ft the Polytrack Provincial Championships 
 Qualifier
DESCRIPTION:[vc_row][vc_column][vc_column_text]\nExperience the thrill\, th
 e passion and the fashion trackside at Newcastle Racecourse.\nWith everyth
 ing from fine dining and premium beverages to a casual picnic-style\naffai
 r on the lawn and live entertainment. Bring your friends and\nfamily for a
 nother great day out at the races!\n[/vc_column_text][vc_separator][vc_cus
 tom_heading text="The Polytrack Provincial Championships Qualifier" font_c
 ontainer="tag:h1|text_align:center"][vc_column_text]\nNewcastle Racecourse
  will be holding the annual Polytrack Provincial Championships Qualifier\n
 Heats. Witness the best provincially-trained horses battle it out for a pl
 ace in the\n$500\,000 Polytrack Provincial Championships Final at Royal Ra
 ndwick.\n[/vc_column_text][vc_single_image image="6259" img_size="medium" 
 alignment="center"][vc_empty_space][/vc_column][/vc_row][vc_row][vc_column
  width="1/3"][eventchamp_button style="1" align="left" buttonlink="title:G
 ates%2012%3A00pm" icon=""][/vc_column][vc_column width="1/3"][eventchamp_b
 utton style="1" align="left" buttonlink="title:First%201%3A34pm" icon=""][
 /vc_column][vc_column width="1/3"][eventchamp_button style="1" align="left
 " buttonlink="title:Last%206%3A00pm" icon=""][/vc_column][/vc_row][vc_row]
 [vc_column][vc_empty_space][vc_separator][vc_empty_space][/vc_column][/vc_
 row][vc_row][vc_column width="1/6"][eventchamp_button style="4" align="lef
 t" buttonlink="url:https%3A%2F%2Fwww.newcastleracecourse.com.au%2Fevents%2
 Fracing-at-newcastle-7%2F%23book-now|title:Book%20Now||" icon=""][/vc_colu
 mn][vc_column width="1/6"][eventchamp_button style="4" align="left" button
 link="url:https%3A%2F%2Fwww.newcastleracecourse.com.au%2Fevents%2Fracing-a
 t-newcastle-7%2F%23packages|title:Packages||" icon=""][/vc_column][vc_colu
 mn width="1/6"][eventchamp_button style="4" align="left" buttonlink="url:h
 ttps%3A%2F%2Fwww.newcastleracecourse.com.au%2Fevents%2Fracing-at-newcastle
 -7%2F%23hampers|title:Hampers||" icon=""][/vc_column][vc_column width="1/6
 "][eventchamp_button style="4" align="left" buttonlink="url:https%3A%2F%2F
 www.newcastleracecourse.com.au%2Ffotf%2F|title:Fashions%20on%20the%20Field
 " icon=""][/vc_column][vc_column width="1/6"][eventchamp_button style="4" 
 align="left" buttonlink="url:https%3A%2F%2Fwww.newcastleracecourse.com.au%
 2Fevents%2Fracing-at-newcastle-7%2F%23graze|title:Grazing%20Boxes||" icon=
 ""][/vc_column][vc_column width="1/6"][eventchamp_button style="4" align="
 left" buttonlink="url:https%3A%2F%2Fwww.newcastleracecourse.com.au%2Fracec
 ourse-map%2F|title:RACECOURSE%20MAP|target:%20_blank|" icon=""][/vc_column
 ][/vc_row][vc_row el_id="packages"][vc_column][vc_empty_space][vc_separato
 r][vc_empty_space][eventchamp_content_title size="size1" title="dark" alig
 n="center" separator="true" titleone="Packages" titletwo="" description=""
  icon=""][/vc_column][/vc_row][vc_row][vc_column width="1/2"][eventchamp_f
 eature_box style="style-1" alignment="left" opacity-effect="false" line="f
 alse" link-status="false" image="4966" image-background-color="" icon="" t
 itle="Chairmans Suite" subtitle="" number="" link=""]Price: $159 per perso
 n – minimum of 30 guests\n\nExclusivity and personalised service enrich 
 the delivery of the hospitality in the Chairman’s Suite. With unrivalled
  views of the racetrack\, winning post and big screen\, the Chairman’s S
 uite features a tantalising menu and premium beverage selection. Entertain
 ing reaches new heights with this race day experience.\n\n• Entry into t
 he racecourse and members enclosure\n• Private function space\n• 3 cou
 rse plated lunch\n• 5-hour beverage package\n• 1x race book per guests
 \n• TAB facilities\nCALL TO BOOK - 4961 1573\n[/eventchamp_feature_box][
 /vc_column][vc_column width="1/2"][eventchamp_feature_box style="style-1" 
 alignment="left" opacity-effect="false" line="false" link-status="false" i
 mage="5404" image-background-color="" icon="" title="Pavilion Room - SOLD 
 OUT" subtitle="" number="" link=""]Price: $149 per person\n\nThe Pavilion 
 Room offers an exclusive race day experience. Watch the horses parading be
 fore the race and catch the race’s finish from the Pavilion Room’s pri
 vate courtyard lawn with unrivalled views of the live racing action.\n\n
 • Entry into the racecourse and marquee event\n• Reserved seating for 
 you and your guest in the marquee event\n• 3 course plated lunch\n• 5-
 hour beverage package\n• 1x race book per guests\n• Entertainment\n•
  TAB facilities\nSOLD OUT\n[/eventchamp_feature_box][/vc_column][/vc_row][
 vc_row][vc_column width="1/2"][vc_empty_space][eventchamp_feature_box styl
 e="style-1" alignment="left" opacity-effect="false" line="false" link-stat
 us="false" image="6121" image-background-color="" icon="" title="Stables M
 arquee" subtitle="" number="" link=""]Price: $149 per person\n\nEnjoy a re
 laxed afternoon in the Stables Marquee\, located in a prime position overl
 ooking the Parade Ring and Winning Post. The Stables Marquee is a great pl
 ace to watch the glorious spectacle of horse racing at its best.\n\n• En
 try into the racecourse and marquee event\n• Reserved seating for you an
 d your guest in the marquee event\n• 3 course plated lunch\n• 5-hour b
 everage package\n• 1x race book per guests\n• Entertainment\n• TAB f
 acilities\nBOOK NOW\n[/eventchamp_feature_box][/vc_column][vc_column width
 ="1/2"][vc_empty_space][eventchamp_feature_box style="style-1" alignment="
 left" opacity-effect="false" line="false" link-status="false" image="5758"
  image-background-color="" icon="" title="Chevals Restaurant" subtitle="" 
 number="" link=""]Price: Members – $129 Non-Members – $139\n\nWith swe
 eping views across the racecourse\, premium bar selections and TAB tote fa
 cilities\, Chevals Restaurant is the ideal venue to enjoy an exceptional r
 ace day experience. Delight your discriminating palate with local produce 
 crafted into a sophisticated buffet.\n\n• Entry into racecourse and memb
 ers enclosure\n• Seating in the restaurant for the entire day\n• Premi
 um buffet lunch served for you\n• 1x Race book per person\n• TAB and b
 ook maker facilities\nBOOK NOW\n[/eventchamp_feature_box][/vc_column][/vc_
 row][vc_row][vc_column width="1/2"][vc_empty_space][eventchamp_feature_box
  style="style-1" alignment="left" opacity-effect="false" line="false" link
 -status="false" image="4967" image-background-color="" icon="" title="Mark
  Murphy Lounge- SOLD OUT" subtitle="" number="" link=""]Price: $30 per per
 son\n\nMark Murphy Lounge\, located on the upper level above the Ascot Bar
  provides spectacular views of the entire racetrack\, big screen and surro
 unding areas. This Lounge has its own private bar\, bookmakers and tote fa
 cilities.\n\n• Entry into the racecourse\n• Reserved seating in an air
 -conditioned venue with views of the track\n• TAB facilities\nSOLD OUT\n
 [/eventchamp_feature_box][/vc_column][vc_column width="1/2"][vc_empty_spac
 e][eventchamp_feature_box style="style-1" alignment="left" opacity-effect=
 "false" line="false" link-status="false" image="4920" image-background-col
 or="" icon="" title="Members Lounge" subtitle="" number="" link=""]Price: 
 $20pp – This booking fee will be ‘given back’ to the member by way o
 f loyalty points and can be used on the day.\n\nThe Members Lounge offers 
 Members and their guest perfect views over the Parade Ring and Across to t
 he\nWinning Post and big screen. This lounge area includes bars\, a bistro
 \, bookmakers and tote facilities.\n\n*You must be a current financial Mem
 ber to book one (1) ticket into the Members Lounge on this day.\nOnly Memb
 ers that hold a guest card can purchase two (2) tickets to this venue.\nBO
 OK NOW\n[/eventchamp_feature_box][/vc_column][/vc_row][vc_row][vc_column w
 idth="1/2"][vc_empty_space][eventchamp_feature_box style="style-1" alignme
 nt="left" opacity-effect="false" line="false" link-status="false" image="5
 719" image-background-color="" icon="" title="General Entry – Ascot Bar 
 Lawn - SOLD OUT" subtitle="" number="" link=""]Price: $15 per person (Sold
  in tables of 4\, 8 and 10)\n\nThe Ascot Bar is the ideal place to catch u
 p with friends to enjoy the races. Reserve your seat on the manicured lawn
  right next to the action. All bookings will be pre-allocated seating for 
 the day with views of the racecourse.\n\n• Entry into the racecourse\n
 • Pre-allocated seating on the Ascot Bar Lawn\n\nPlease note: When booki
 ng on a lawn area for the race day you will be exposed to the elements\nSO
 LD OUT\n[/eventchamp_feature_box][/vc_column][vc_column width="1/2"][vc_em
 pty_space][eventchamp_feature_box style="style-1" alignment="left" opacity
 -effect="false" line="false" link-status="false" image="5723" image-backgr
 ound-color="" icon="" title="General Entry – Betting Ring" subtitle="" n
 umber="" link=""]Price: $15 per person (Sold in tables of 4 and 10)\n\nBoo
 k your reserved seat in the heart of the action with bookmaker and bar fac
 ilities in the Betting Ring. With only a short walk to the live action tra
 ckside enjoy the atmosphere of both areas.\n\n• Entry into the racecours
 e\n• Pre-allocated seating in the Betting Ring\nBOOK NOW\n[/eventchamp_f
 eature_box][/vc_column][/vc_row][vc_row el_id="hampers"][vc_column][vc_emp
 ty_space][vc_separator][vc_empty_space][eventchamp_content_title size="siz
 e1" title="dark" align="center" separator="true" titleone="Hampers" titlet
 wo="" description="" icon=""][vc_column_text]\nAvailable with bookings in 
 the Members Lounge\, Betting Ring and Ascot Bar Lawn.\nHampers are to be p
 re-order online by 12:00pm the Wednesday prior to the race day.\n[/vc_colu
 mn_text][/vc_column][/vc_row][vc_row][vc_column width="1/2"][eventchamp_fe
 ature_box style="style-1" alignment="left" opacity-effect="false" line="fa
 lse" link-status="false" image="5536" image-background-color="" icon="" ti
 tle="Ascot Hamper" subtitle="" number="" link=""]$65 per hamper – Suitab
 le for 2 people\n\nInclusions:\n\n 	Gourment Ribbon sandwiches\n 	Selectio
 n of cheese with quince paste and lavosh crackers\n 	Danish pastries\n 	Ma
 caroons\n\n[/eventchamp_feature_box][/vc_column][vc_column width="1/2"][ev
 entchamp_feature_box style="style-1" alignment="left" opacity-effect="fals
 e" line="false" link-status="false" image="5535" image-background-color=""
  icon="" title="Beaumont Hamper" subtitle="" number="" link=""]$90 per ham
 per – Suitable for 2 people\n\nInclusions:\n\n 	Moroccan BBQ chicken\n 	
 Greek salad\n 	Baby spinach and cous cous salad\n 	Selection of cheese wit
 h quince paste and lavosh crackers\n 	Danish pastries\n 	Macaroons\n 	Stra
 wberries and fresh cream\n\n[/eventchamp_feature_box][/vc_column][/vc_row]
 [vc_row el_id="graze"][vc_column][vc_custom_heading text="Grazing Boxes" f
 ont_container="tag:h1|text_align:center"][vc_column_text]\nGrazing Boxes a
 re to be pre-order online by 12:00pm the Thursday prior to the race day.\n
 Newcastle Racecourse staff will deliver the platter directly to your seat 
 on the race day.\n[/vc_column_text][/vc_column][/vc_row][vc_row][vc_column
  width="1/2"][eventchamp_feature_box style="style-1" alignment="left" opac
 ity-effect="false" line="false" link-status="false" image="6158" image-bac
 kground-color="" icon="" title="JUST CHEESE PLEASE" subtitle="" number="" 
 link=""]Price: $79\n\nOur Signature Cheese Platter for those with a love o
 f cheese\, a perfect accompaniment for 8-10 people.\n\nIncludes:\n\n 	4 ch
 eeses\n 	Dried Fruit\n 	Crackers\n 	Olives\n 	Grapes\n\n[/eventchamp_featu
 re_box][vc_empty_space][/vc_column][vc_column width="1/2"][eventchamp_feat
 ure_box style="style-1" alignment="left" opacity-effect="false" line="fals
 e" link-status="false" image="6157" image-background-color="" icon="" titl
 e="50 Shades of Graze" subtitle="" number="" link=""]Price: $99\n\nA selec
 tion of locally sourced fresh produce\, a perfect accompaniment for 8-10 p
 eople\n\nIncludes:\n\n 	Cheese\n 	Charcuterie\n 	Crackers\n 	Dips\n\n[/eve
 ntchamp_feature_box][/vc_column][/vc_row][vc_row][vc_column width="1/2"][e
 ventchamp_feature_box style="style-1" alignment="left" opacity-effect="fal
 se" line="false" link-status="false" image="6154" image-background-color="
 " icon="" title="25 Shades of Graze" subtitle="" number="" link=""]Price: 
 $49\n\nA small selection of locally sourced fresh produce\, a perfect acco
 mpaniment for 2-4 people.\n\nIncludes:\n\n 	Cheeses\n 	Charcuterie\n 	Crac
 kers\n 	Dips\n\n[/eventchamp_feature_box][/vc_column][vc_column width="1/2
 "][/vc_column][/vc_row][vc_row el_id="book-now"][vc_column][vc_empty_space
 ][vc_empty_space][vc_empty_space][/vc_column][/vc_row]
LOCATION:#_LOCATIONNAME\, #_LOCATIONFULLLINE\, #_LOCATIONCOUNTRY
X-APPLE-STRUCTURED-LOCATION;VALUE=URI;X-ADDRESS=#_LOCATIONFULLLINE\, #_LOCA
 TIONCOUNTRY;X-APPLE-RADIUS=100;X-TITLE=#_LOCATIONNAME:geo:0,0
END:VEVENT
BEGIN:VTIMEZONE
TZID:Australia/Sydney
X-LIC-LOCATION:Australia/Sydney
BEGIN:DAYLIGHT
DTSTART:20201004T030000
TZOFFSETFROM:+1000
TZOFFSETTO:+1100
TZNAME:AEDT
END:DAYLIGHT
END:VTIMEZONE
END:VCALENDAR