BEGIN:VCALENDAR
VERSION:2.0
PRODID:-//wp-events-plugin.com//7.2.3.1//EN
TZID:Australia/Sydney
X-WR-TIMEZONE:Australia/Sydney
BEGIN:VEVENT
UID:352@newcastleracecourse.com.au
DTSTART;TZID=Australia/Sydney:20260323T130000
DTEND;TZID=Australia/Sydney:20260323T180000
DTSTAMP:20260318T225729Z
URL:https://www.newcastleracecourse.com.au/events/wine-country-race-day-11
 /
SUMMARY:Wine Country Race Day
DESCRIPTION:\nEnjoy a mid-week Wine Country Race Day at Newcastle Racecours
 e with friends and colleagues.\n\n\n\nWith free entry for everyone\, you c
 an enjoy a bite to eat trackside at the Members Bistro or pre order one of
  our grazing platter options online.\n\n\n\nSit back\, relax and enjoy the
  best of mid-week racing only at Newcastle Racecourse.\n\n\n\nEveryone is 
 welcome.\n\n\n\n\n\n\n\n\n\n\n1:00pm\n\n\n\n\n\n\n\nGates Open\n\n\n\n\n\n
 -\n\n\n\n\n\n\n\nEarly Members Gates\n\n\n\n\n\n2:05pm\n\n\n\n\n\n\n\nFirs
 t Race\n\n\n\n\n\n5:50pm\n\n\n\n\n\n\n\nLast Race\n\n\n\n\n\n\n\n\n\n\nPla
 tters &amp\; Grazing Boxes\n\n\n\nIf you would like to pre-purchase a gour
 met food hamper\, a grazing box or a sandwich platter please use "Book Now
 " link below.\n\n\n\n\n\n\n\n&nbsp\;\n
ATTACH;FMTTYPE=image/jpeg:https://www.newcastleracecourse.com.au/wp-conten
 t/uploads/2025/04/Wine-Country-Race-Day-Web-tile-1200-x-675-px.png
CATEGORIES:Weekday Raceday
END:VEVENT
BEGIN:VTIMEZONE
TZID:Australia/Sydney
X-LIC-LOCATION:Australia/Sydney
BEGIN:DAYLIGHT
DTSTART:20251005T030000
TZOFFSETFROM:+1000
TZOFFSETTO:+1100
TZNAME:AEDT
END:DAYLIGHT
END:VTIMEZONE
END:VCALENDAR